BEGIN:VCALENDAR
VERSION:2.0
PRODID:-//The Piece Hall - ECPv6.15.20//NONSGML v1.0//EN
CALSCALE:GREGORIAN
METHOD:PUBLISH
X-WR-CALNAME:The Piece Hall
X-ORIGINAL-URL:https://www.thepiecehall.co.uk
X-WR-CALDESC:Events for The Piece Hall
REFRESH-INTERVAL;VALUE=DURATION:PT1H
X-Robots-Tag:noindex
X-PUBLISHED-TTL:PT1H
BEGIN:VTIMEZONE
TZID:Europe/London
BEGIN:DAYLIGHT
TZOFFSETFROM:+0000
TZOFFSETTO:+0100
TZNAME:BST
DTSTART:20200329T010000
END:DAYLIGHT
BEGIN:STANDARD
TZOFFSETFROM:+0100
TZOFFSETTO:+0000
TZNAME:GMT
DTSTART:20201025T010000
END:STANDARD
BEGIN:DAYLIGHT
TZOFFSETFROM:+0000
TZOFFSETTO:+0100
TZNAME:BST
DTSTART:20210328T010000
END:DAYLIGHT
BEGIN:STANDARD
TZOFFSETFROM:+0100
TZOFFSETTO:+0000
TZNAME:GMT
DTSTART:20211031T010000
END:STANDARD
BEGIN:DAYLIGHT
TZOFFSETFROM:+0000
TZOFFSETTO:+0100
TZNAME:BST
DTSTART:20220327T010000
END:DAYLIGHT
BEGIN:STANDARD
TZOFFSETFROM:+0100
TZOFFSETTO:+0000
TZNAME:GMT
DTSTART:20221030T010000
END:STANDARD
BEGIN:DAYLIGHT
TZOFFSETFROM:+0000
TZOFFSETTO:+0100
TZNAME:BST
DTSTART:20230326T010000
END:DAYLIGHT
BEGIN:STANDARD
TZOFFSETFROM:+0100
TZOFFSETTO:+0000
TZNAME:GMT
DTSTART:20231029T010000
END:STANDARD
BEGIN:DAYLIGHT
TZOFFSETFROM:+0000
TZOFFSETTO:+0100
TZNAME:BST
DTSTART:20240331T010000
END:DAYLIGHT
BEGIN:STANDARD
TZOFFSETFROM:+0100
TZOFFSETTO:+0000
TZNAME:GMT
DTSTART:20241027T010000
END:STANDARD
BEGIN:DAYLIGHT
TZOFFSETFROM:+0000
TZOFFSETTO:+0100
TZNAME:BST
DTSTART:20250330T010000
END:DAYLIGHT
BEGIN:STANDARD
TZOFFSETFROM:+0100
TZOFFSETTO:+0000
TZNAME:GMT
DTSTART:20251026T010000
END:STANDARD
BEGIN:DAYLIGHT
TZOFFSETFROM:+0000
TZOFFSETTO:+0100
TZNAME:BST
DTSTART:20260329T010000
END:DAYLIGHT
BEGIN:STANDARD
TZOFFSETFROM:+0100
TZOFFSETTO:+0000
TZNAME:GMT
DTSTART:20261025T010000
END:STANDARD
END:VTIMEZONE
BEGIN:VEVENT
DTSTART;TZID=Europe/London:20250921T093000
DTEND;TZID=Europe/London:20250921T103000
DTSTAMP:20260421T123310
CREATED:20250904T165547Z
LAST-MODIFIED:20250905T093848Z
UID:212404-1758447000-1758450600@www.thepiecehall.co.uk
SUMMARY:Flower Laying at the Anne Lister Sculpture
DESCRIPTION:Join the Anne Lister community in commemorating the anniversary of the trailblazing lesbian diarist’s death. \nFlowers will be laid at Diane Lawrenson’s sculpture “Contemplation” in the courtyard. \nA flower-seller will be on site for you to purchase flowers or you can bring your own that are unwrapped and cellophane-free! \nNote: Gates open at 9am
URL:https://www.thepiecehall.co.uk/event/flower-laying-at-the-anne-lister-sculpture/
LOCATION:The Piece Hall\, The Piece Hall\, Blackledge\, Halifax HX1 1RE\, Halifax\, HX1 1RE
CATEGORIES:Community
ATTACH;FMTTYPE=image/jpeg:https://www.thepiecehall.co.uk/wp-content/uploads/2025/09/ALFL-ThePieceHall-EllisRobinson-131.jpeg
END:VEVENT
BEGIN:VEVENT
DTSTART;TZID=Europe/London:20210814T110000
DTEND;TZID=Europe/London:20210814T160000
DTSTAMP:20260421T123310
CREATED:20210811T081544Z
LAST-MODIFIED:20210812T154258Z
UID:24035-1628938800-1628956800@www.thepiecehall.co.uk
SUMMARY:Summer Daze Family Fun
DESCRIPTION:Summer Daze Family Fun\nJoin us for a day of family fun as The Piece Hall courtyard comes to life with carnival creatures\, food\, music and creative workshops. \nCallaloo Carnival Arts bring the sights & sounds of Carnival to The Piece Hall\, featuring fabulous Carnival Creatures in a fun\, interactive performance that will brighten everyone’s day. Look out for Skating Carnival Kingfishers\, Giant Birds\, Moths & a Magical Spirit Tree! The performance is set to the music of DJ Soca Haze and will take place at 11.30am\, 1.30pm and 3pm. \nGet Creative and join Callaloo Carnival Arts in their drop-in art workshops and make a Paper Moth from recycled paper\, inspired by a Poem in the book ‘Lost Spells’ by Robert Macfarlane. Workshops will take place at the following times: 11am – 12.30pm\, 1 – 2.30pm and 3 – 4pm. \nThroughout the day there will be a selection of stalls to browse\, and performances from One Steel Band.
URL:https://www.thepiecehall.co.uk/event/summer-daze-family-fun/
LOCATION:The Piece Hall\, The Piece Hall\, Blackledge\, Halifax HX1 1RE\, Halifax\, HX1 1RE
CATEGORIES:Community,Family,Summer
ATTACH;FMTTYPE=image/jpeg:https://www.thepiecehall.co.uk/wp-content/uploads/2021/08/Calalloo-Carnival-Arts-Swallows-at-park-scaled-e1628669827550.jpeg
END:VEVENT
BEGIN:VEVENT
DTSTART;TZID=Europe/London:20210619T113000
DTEND;TZID=Europe/London:20210619T163000
DTSTAMP:20260421T123310
CREATED:20210617T103935Z
LAST-MODIFIED:20210728T093524Z
UID:1026-1624102200-1624120200@www.thepiecehall.co.uk
SUMMARY:The Great Get Together
DESCRIPTION:The Great Get Together\nA free event to celebrate kindness with free food\, live music\, family activities and entertainment. \nThe event\, which takes place on Saturday 19 June from 11.30am\, marks both The Great Get Together\, an initiative inspired by the late Jo Cox designed to bring people together to celebrate what they have in common\, as well as Refugee Week. \nJoin us to enjoy the free fresh food cooked onsite and to soak up the atmosphere with the free live music\, poetry and creative family activities on offer.
URL:https://www.thepiecehall.co.uk/event/the-great-get-together/
LOCATION:The Piece Hall\, The Piece Hall\, Blackledge\, Halifax HX1 1RE\, Halifax\, HX1 1RE
CATEGORIES:Community
ATTACH;FMTTYPE=image/jpeg:https://www.thepiecehall.co.uk/wp-content/uploads/2021/06/449_header.jpeg
END:VEVENT
END:VCALENDAR