BEGIN:VCALENDAR
VERSION:2.0
PRODID:-//The Piece Hall - ECPv6.15.20//NONSGML v1.0//EN
CALSCALE:GREGORIAN
METHOD:PUBLISH
X-WR-CALNAME:The Piece Hall
X-ORIGINAL-URL:https://www.thepiecehall.co.uk
X-WR-CALDESC:Events for The Piece Hall
REFRESH-INTERVAL;VALUE=DURATION:PT1H
X-Robots-Tag:noindex
X-PUBLISHED-TTL:PT1H
BEGIN:VTIMEZONE
TZID:Europe/London
BEGIN:DAYLIGHT
TZOFFSETFROM:+0000
TZOFFSETTO:+0100
TZNAME:BST
DTSTART:20220327T010000
END:DAYLIGHT
BEGIN:STANDARD
TZOFFSETFROM:+0100
TZOFFSETTO:+0000
TZNAME:GMT
DTSTART:20221030T010000
END:STANDARD
BEGIN:DAYLIGHT
TZOFFSETFROM:+0000
TZOFFSETTO:+0100
TZNAME:BST
DTSTART:20230326T010000
END:DAYLIGHT
BEGIN:STANDARD
TZOFFSETFROM:+0100
TZOFFSETTO:+0000
TZNAME:GMT
DTSTART:20231029T010000
END:STANDARD
BEGIN:DAYLIGHT
TZOFFSETFROM:+0000
TZOFFSETTO:+0100
TZNAME:BST
DTSTART:20240331T010000
END:DAYLIGHT
BEGIN:STANDARD
TZOFFSETFROM:+0100
TZOFFSETTO:+0000
TZNAME:GMT
DTSTART:20241027T010000
END:STANDARD
END:VTIMEZONE
BEGIN:VEVENT
DTSTART;TZID=Europe/London:20230327T133000
DTEND;TZID=Europe/London:20230405T143000
DTSTAMP:20260425T140008
CREATED:20230309T105626Z
LAST-MODIFIED:20230310T102258Z
UID:192418-1679923800-1680705000@www.thepiecehall.co.uk
SUMMARY:Anne Lister Birthday Festival Heritage Tours
DESCRIPTION:Anne Lister Birthday Festival Heritage Tours\nOver its almost 250 year history\, The Piece Hall has been home to the weird\, the wonderful & the fantastical. Pre-book a guided tour with one of our knowledgeable heritage guides who will lead you on a journey of discovery telling the stories of The Piece Hall from the Georgian period right through to the current day including excerpts from Anne Lister’s diaries related to The Piece Hall. Your Guide will lead your group around the grand colonnades and delve deeper into The Piece Hall’s captivating past. \nAnne Lister Birthday Festival Tours take place at 1.30pm on the following days: \n\nMonday 27 March\nTuesday 28 March\nWednesday 29 March\nThursday 30 March\nFriday 31 March\nSaturday 1 April\nSunday 2 April\nMonday 3 April\nTuesday 4 April\nWednesday 5 April
URL:https://www.thepiecehall.co.uk/event/anne-lister-tours/
LOCATION:The Piece Hall\, The Piece Hall\, Blackledge\, Halifax HX1 1RE\, Halifax\, HX1 1RE
CATEGORIES:History
ATTACH;FMTTYPE=image/png:https://www.thepiecehall.co.uk/wp-content/uploads/2023/03/Anne-Lister-Diane-Lawrenson-1920x1080-1.png
END:VEVENT
END:VCALENDAR