BEGIN:VCALENDAR
VERSION:2.0
PRODID:-//The Piece Hall - ECPv6.15.20//NONSGML v1.0//EN
CALSCALE:GREGORIAN
METHOD:PUBLISH
X-ORIGINAL-URL:https://www.thepiecehall.co.uk
X-WR-CALDESC:Events for The Piece Hall
REFRESH-INTERVAL;VALUE=DURATION:PT1H
X-Robots-Tag:noindex
X-PUBLISHED-TTL:PT1H
BEGIN:VTIMEZONE
TZID:Europe/London
BEGIN:DAYLIGHT
TZOFFSETFROM:+0000
TZOFFSETTO:+0100
TZNAME:BST
DTSTART:20240331T010000
END:DAYLIGHT
BEGIN:STANDARD
TZOFFSETFROM:+0100
TZOFFSETTO:+0000
TZNAME:GMT
DTSTART:20241027T010000
END:STANDARD
BEGIN:DAYLIGHT
TZOFFSETFROM:+0000
TZOFFSETTO:+0100
TZNAME:BST
DTSTART:20250330T010000
END:DAYLIGHT
BEGIN:STANDARD
TZOFFSETFROM:+0100
TZOFFSETTO:+0000
TZNAME:GMT
DTSTART:20251026T010000
END:STANDARD
BEGIN:DAYLIGHT
TZOFFSETFROM:+0000
TZOFFSETTO:+0100
TZNAME:BST
DTSTART:20260329T010000
END:DAYLIGHT
BEGIN:STANDARD
TZOFFSETFROM:+0100
TZOFFSETTO:+0000
TZNAME:GMT
DTSTART:20261025T010000
END:STANDARD
END:VTIMEZONE
BEGIN:VEVENT
DTSTART;TZID=Europe/London:20250709T183000
DTEND;TZID=Europe/London:20250709T203000
DTSTAMP:20260420T164901
CREATED:20250526T170330Z
LAST-MODIFIED:20250526T170330Z
UID:212269-1752085800-1752093000@www.thepiecehall.co.uk
SUMMARY:The Scrapbook: An evening with Heather Clark
DESCRIPTION:The Scrapbook: An evening with Heather Clark\nJoin American scholar and author\, Heather Clark\, to celebrate the publication of her first novel\, The Scrapbook\, the story of a life-changing seduction in the long shadow of European history. \nHeather is the author of four works of non-fiction\, including Red Comet: The Short Life and Blazing Art of Sylvia Plath\, which was a finalist for the Pulitzer Prize. \nTickets are £5 / £3 and can be bought online here.
URL:https://www.thepiecehall.co.uk/event/the-scrapbook-an-evening-with-heather-clark/
LOCATION:The Book Corner\, The Piece Hall\, Halifax\, HX1 1RE
CATEGORIES:Literature
ATTACH;FMTTYPE=image/jpeg:https://www.thepiecehall.co.uk/wp-content/uploads/2025/05/Scrapbook-Banner-scaled.jpg
END:VEVENT
END:VCALENDAR